BEGIN:VCALENDAR
VERSION:2.0
PRODID:-//eventon.com NONSGML v1.0//EN
CALSCALE:GREGORIAN
METHOD:PUBLISH
BEGIN:VEVENT
UID:69ea21389ed0b
DTSTAMP:20260423T134008Z
DTSTART:20260517T070000Z
DTEND:20260517T130000Z
LOCATION:Bohrsgade 9\,  1799 KÃ¸benhavn V\,  Danmark Bohrsgade 9\,  1799 KÃ¸benhavn V\,  Danmark
SUMMARY:Ã…BENT HUS PÃ… BOHRSGADE
DESCRIPTION:KOM MED TIL Ã…BENT HUS I YO STUDIOS CARLSBERG BYENDen 17. maj Ã
 ¥bner vi dÃ¸rene til vores studio pÃ¥ Bohrsgade for alle! GlÃ¦d dig til en 
 sÃ¸ndag med gratis klasser\,  god energi og masser af bevÃ¦gelse. Du kan se
  frem til:HYROX FUSION\,  RUN &#038; STRENGTH\,  FUNCTIONAL TRAINING &#038;
  REFORMER INFODato:[..]\nhttps://danseparaplyen.azurewebsites.net/events/ab
 ent-hus-pa-bohrsgade/
URL:https://danseparaplyen.azurewebsites.net/events/abent-hus-pa-bohrsgade/
END:VEVENT
END:VCALENDAR