BEGIN:VCALENDAR
VERSION:2.0
PRODID:-//eventon.com NONSGML v1.0//EN
CALSCALE:GREGORIAN
METHOD:PUBLISH
BEGIN:VEVENT
UID:69eacea3613d4
DTSTAMP:20260424T020003Z
DTSTART:20260409T170000Z
DTEND:20260409T193000Z
LOCATION:Steinerskolen\,  Stavangervej 3\,  8600 Silkeborg Steinerskolen\,  Stavangervej 3\,  8600 Silkeborg
SUMMARY:Dans 5Rytmer torsdag 9. april\,  Steinerskolen\,  Silkeborg - 5Rytmelærer Laila Wodtke kommer
DESCRIPTION:5Rytmelærer Laila Wodtke kommer til Silkeborg og danser med je
 r. Så dejligt at jeg kan tilbyde jer dygtige Laila torsdag den 9. oktober\
 ,  hvor jeg selv er på Djursland og tage imod musiker Johan Bysell til vor
 es workshops &#8216;Deep Dancing&#8217;. Alle er meget velkommne\,  uanset 
 om du har danset 5Rytmer[..]\nhttps://danseparaplyen.azurewebsites.net/even
 ts/dans-5rytmer-torsdag-9-april-steinerskolen-silkeborg-5rytmelaerer-laila-
 wodtke-kommer/
URL:https://danseparaplyen.azurewebsites.net/events/dans-5rytmer-torsdag-9-april-steinerskolen-silkeborg-5rytmelaerer-laila-wodtke-kommer/
END:VEVENT
END:VCALENDAR