BEGIN:VCALENDAR
VERSION:2.0
PRODID:-//eventon.com NONSGML v1.0//EN
CALSCALE:GREGORIAN
METHOD:PUBLISH
BEGIN:VEVENT
UID:69ea61ef543eb
DTSTAMP:20260423T181615Z
DTSTART:20260408T174000Z
DTEND:20260408T203000Z
LOCATION:Folkestedet Folkestedet
SUMMARY:Kizomba drop in onsdag
DESCRIPTION:✨ Zack åbner op for dansen efter påske ✨ 💃🏻🕺🏻
  INTRO kl. 19.40 💃🏻🕺🏻Denne onsdag står Zack for introen.Zack h
 ar danset kizomba siden 2017 og har undervist og danset i flere lande.Han h
 ar stor passion for kizomba og dens kreativitet.Undervisningen er open leve
 l og tilpasses niveauet på deltagerne\,  med primær[..]\nhttps://dansepar
 aplyen.azurewebsites.net/events/kizomba-drop-in-onsdag-35/
URL:https://danseparaplyen.azurewebsites.net/events/kizomba-drop-in-onsdag-35/
END:VEVENT
END:VCALENDAR