BEGIN:VCALENDAR
VERSION:2.0
PRODID:-//eventon.com NONSGML v1.0//EN
CALSCALE:GREGORIAN
METHOD:PUBLISH
BEGIN:VEVENT
UID:69eb438338da1
DTSTAMP:20260424T101843Z
DTSTART:20260410T170000Z
DTEND:20260410T210000Z
LOCATION:Folkestedet Folkestedet
SUMMARY:Friday Night Practice - End of the Semester Celebration!
DESCRIPTION:Dear fellow lindy hoppers\,  This Friday’s Practice is specia
 l because we’re celebrating the end of the spring semester at ALH! We hav
 e some surprises and fun planned\,  so grab your dance friends and let’s 
 celebrate with jazz and dancing! Rumour has it that our students are prepar
 ing something special\,  so[..]\nhttps://danseparaplyen.azurewebsites.net/e
 vents/friday-night-social-dance-10/
URL:https://danseparaplyen.azurewebsites.net/events/friday-night-social-dance-10/
END:VEVENT
END:VCALENDAR