BEGIN:VCALENDAR
VERSION:2.0
PRODID:-//eventon.com NONSGML v1.0//EN
CALSCALE:GREGORIAN
METHOD:PUBLISH
BEGIN:VEVENT
UID:69ea3796b1561
DTSTAMP:20260423T151534Z
DTSTART:20260408T170000Z
DTEND:20260408T193000Z
LOCATION:Online Event Online Event
SUMMARY:Nordisk Dans Aarhus - 8. april
DESCRIPTION:Onsdag den 8. april mødes vi til endnu en danseaften 💃🕺 
 Vi glæder os til igen at byde på en festlig aften med levende musik\,  ko
 lde øl/sodavand og selvfølgelig en masse dans! Aftenen er GRATIS (😱)\,
   og ALLE er velkomne\,  uanset om man har danset 0 eller 100 gange før\, 
 [..]\nhttps://danseparaplyen.azurewebsites.net/events/nordisk-dans-aarhus-8
 -april/
URL:https://danseparaplyen.azurewebsites.net/events/nordisk-dans-aarhus-8-april/
END:VEVENT
END:VCALENDAR