BEGIN:VCALENDAR
VERSION:2.0
PRODID:-//eventon.com NONSGML v1.0//EN
CALSCALE:GREGORIAN
METHOD:PUBLISH
BEGIN:VEVENT
UID:69e4d6bb7977d
DTSTAMP:20260419T132059Z
DTSTART:20260403T140000Z
DTEND:20260403T230000Z
LOCATION:KlostergadeCentret KlostergadeCentret
SUMMARY:PåskeTango og Workshops med Martin & Maurizio - et samarbejde med Tango El Malevo
DESCRIPTION:Tilmelding til Martin &#038; Maurizio workshop i Aarhus 2026 &#
 8211; er ÅBEN Martin &#038; Maurizio besøger Aarhus i påsken den 3. apri
 l 2026 &#8211; lørdag 4. april 2026 En påske fyldt med magi\,  stjernedry
 s\,  forelskelse og grin – en begivenhed\,  du ikke vil gå glip af … M
 &#038;M&#8217;s philosofi: &#8220;The[..]\nhttps://danseparaplyen.azurewebs
 ites.net/events/pasketango-m-martin-maurizio-et-samarbejde-mellem-tango-el-
 malevo-foreningen-tango-aarhus/
URL:https://danseparaplyen.azurewebsites.net/events/pasketango-m-martin-maurizio-et-samarbejde-mellem-tango-el-malevo-foreningen-tango-aarhus/
END:VEVENT
END:VCALENDAR