BEGIN:VCALENDAR
VERSION:2.0
PRODID:-//eventon.com NONSGML v1.0//EN
CALSCALE:GREGORIAN
METHOD:PUBLISH
BEGIN:VEVENT
UID:69eca2a6add52
DTSTAMP:20260425T111654Z
DTSTART:20260705T110000Z
DTEND:20260705T140000Z
LOCATION:Brandbjerg Højskole Brandbjerg Højskole
SUMMARY:Join the Nordic Salsa Camp 2026 for a Blast of 20 Anniversary Celebration!
DESCRIPTION:NEWS!! &#8211; The Sign Up for the 20 years anniversary celebra
 tion of the Nordic Salsa Camp 2026\,  July 5-11\, is now open! Sign up and 
 read more here: ❤️🎶💃🕺🎶💥 💥💥 www.nordicsalsacamp.dk 
 You can just look forward to a super blast of a 20 Anniversary Nordic Salsa
  Camp 2026! &#8211; With extra[..]\nhttps://danseparaplyen.azurewebsites.ne
 t/events/join-the-nordic-salsa-camp-2026-for-a-blast-of-20-anniversary-cele
 bration/
URL:https://danseparaplyen.azurewebsites.net/events/join-the-nordic-salsa-camp-2026-for-a-blast-of-20-anniversary-celebration/
END:VEVENT
END:VCALENDAR