BEGIN:VCALENDAR
VERSION:2.0
PRODID:-//eventon.com NONSGML v1.0//EN
CALSCALE:GREGORIAN
METHOD:PUBLISH
BEGIN:VEVENT
UID:69ed8c4622c01
DTSTAMP:20260426T035342Z
DTSTART:20250412T180000Z
DTEND:20250412T210000Z
LOCATION:CasaV58 CasaV58
SUMMARY:The Blues Overdrive
DESCRIPTION:Hvor: CasaV58 Vestergade 58P\,  8000 Aarhus CHvornår: 12 april
  kl. 20.00(dørene åbner kl. 19.30) The Blues Overdrive er dansk roots og 
 blues i international klasse. Gennem de seneste mange år har de høstet st
 or international anerkendelse for det utal af koncerter\,  airplay de TV op
 trædener de har givet i det[..]\nhttps://danseparaplyen.azurewebsites.net/
 events/the-blues-overdrive/
URL:https://danseparaplyen.azurewebsites.net/events/the-blues-overdrive/
END:VEVENT
END:VCALENDAR