BEGIN:VCALENDAR
VERSION:2.0
PRODID:-//eventon.com NONSGML v1.0//EN
CALSCALE:GREGORIAN
METHOD:PUBLISH
BEGIN:VEVENT
UID:69ed83fb0440e
DTSTAMP:20260426T031819Z
DTSTART:20250507T170000Z
DTEND:20250507T193000Z
LOCATION:Studenterhus Aarhus Studenterhus Aarhus
SUMMARY:Nordisk Dans Aarhus - 7. maj: FESTLIGE FÆLLESDANSE
DESCRIPTION:Onsdag den 7. maj mødes vi til endnu en danseaften\,  hvor tem
 aet er FESTLIGE FÆLLESDANSE! 💃🕺 Vi glæder os til igen at byde på e
 n festlig aften med levende musik\,  kolde øl/sodavand og selvfølgelig en
  masse dans! Aftenen er GRATIS (😱)\,  og ALLE er velkomne\,  uanset om m
 an har danset[..]\nhttps://danseparaplyen.azurewebsites.net/events/nordisk-
 dans-aarhus-7-maj/
URL:https://danseparaplyen.azurewebsites.net/events/nordisk-dans-aarhus-7-maj/
END:VEVENT
END:VCALENDAR