BEGIN:VCALENDAR
VERSION:2.0
PRODID:-//eventon.com NONSGML v1.0//EN
CALSCALE:GREGORIAN
METHOD:PUBLISH
BEGIN:VEVENT
UID:69e83bbee6f3c
DTSTAMP:20260422T030846Z
DTSTART:20250224T183000Z
DTEND:20250224T210000Z
LOCATION:Folkestedet Folkestedet
SUMMARY:Monday Practice
DESCRIPTION:Dear fellow lindy hoppers\,  Social Dancing &#8211; what better
  way to spend a Monday evening! At Social Dancing\,  you can meet your fell
 ow lindy hoppers and practice all the moves you have learned in class by da
 ncing with lindy hoppers from all levels.You don&#8217;t need to attend cla
 sses to join[..]\nhttps://danseparaplyen.azurewebsites.net/events/monday-pr
 actice-27/
URL:https://danseparaplyen.azurewebsites.net/events/monday-practice-27/
END:VEVENT
END:VCALENDAR