BEGIN:VCALENDAR
VERSION:2.0
PRODID:-//eventon.com NONSGML v1.0//EN
CALSCALE:GREGORIAN
METHOD:PUBLISH
BEGIN:VEVENT
UID:69ecd99dece2a
DTSTAMP:20260425T151125Z
DTSTART:20250501T130000Z
DTEND:20250504T000000Z
LOCATION:turkis turkis
SUMMARY:Roots&Hybrid 2025
DESCRIPTION:Roots&#038;Hybrid er din chance for at opdage musik\,  der over
 rasker\,  udfordrer og inspirerer. Så tag dine venner med\,  og lad os sam
 men fylde dansegulvet\,  dele magiske øjeblikke og skabe nye minder i hjer
 tet af musikken. 🎶❤️ Festivalen afvikles som en del af SPOT\,  og pr
 æsenterer et mangfoldigt udvalg af både[..]\nhttps://danseparaplyen.azure
 websites.net/events/rootshybrid-2025/
URL:https://danseparaplyen.azurewebsites.net/events/rootshybrid-2025/
END:VEVENT
END:VCALENDAR