BEGIN:VCALENDAR
VERSION:2.0
PRODID:-//eventon.com NONSGML v1.0//EN
CALSCALE:GREGORIAN
METHOD:PUBLISH
BEGIN:VEVENT
UID:69ed50a002bbd
DTSTAMP:20260425T233912Z
DTSTART:20250506T163000Z
DTEND:20250506T193000Z
LOCATION:Domen Domen
SUMMARY:Salsa for Sjov i Domen 2025
DESCRIPTION:Kom og lær cubansk salsa\,  når Salsa for Sjov endnu en gang 
 inviterer til en festlig danseaften i Domen i maj 2025. Vi lægger op til e
 n glad og sjov aften i dansens tegn\,  hvor ALLE kan være med &#8211; begy
 ndere såvel som øvede dansere. Vi starter med introundervisning i[..]\nht
 tps://danseparaplyen.azurewebsites.net/events/salsa-for-sjov-i-domen-2025/
URL:https://danseparaplyen.azurewebsites.net/events/salsa-for-sjov-i-domen-2025/
END:VEVENT
END:VCALENDAR