BEGIN:VCALENDAR
VERSION:2.0
PRODID:-//eventon.com NONSGML v1.0//EN
CALSCALE:GREGORIAN
METHOD:PUBLISH
BEGIN:VEVENT
UID:69ed3961d7266
DTSTAMP:20260425T220001Z
DTSTART:20250508T070000Z
DTEND:20250515T140000Z
LOCATION:Gammel Kirkevej 116A\,  8530 Hjortshøj\,  Denmark Gammel Kirkevej 116A\,  8530 Hjortshøj\,  Denmark
SUMMARY:Trin for Trivsel  //  2-dages kursus i Hjortshøj 8. og 15. maj
DESCRIPTION:Trin for Trivsel er et 2-dages kursus for lærere\,  pædagoger
  og andre\,  der arbejder med børn og unge. Dette lærer du på Trin for T
 rivsel kurset: Du får grundlæggende viden om\,  hvad præstationsfri dans
  kan gøre for den enkelte og for fællesskabet. Viden om\,  hvordan dans k
 an bruges som et[..]\nhttps://danseparaplyen.azurewebsites.net/events/trin-
 for-trivsel-2-dages-kursus-i-hjortshoj/
URL:https://danseparaplyen.azurewebsites.net/events/trin-for-trivsel-2-dages-kursus-i-hjortshoj/
END:VEVENT
END:VCALENDAR