BEGIN:VCALENDAR
VERSION:2.0
PRODID:-//eventon.com NONSGML v1.0//EN
CALSCALE:GREGORIAN
METHOD:PUBLISH
BEGIN:VEVENT
UID:69ecbf9813a7a
DTSTAMP:20260425T132024Z
DTSTART:20250502T200000Z
DTEND:20250503T030000Z
LOCATION:Vestergade 58\,  8000 Aarhus\,  Denmark Vestergade 58\,  8000 Aarhus\,  Denmark
SUMMARY:Parvati Records 25th Anniversary
DESCRIPTION:Parvati Records 25th Anniversary Party Aarhus\,  it’s time to
  get WILD! On May 2nd\,  EQual Club is taking over Vestergade 58 and immers
 ing you in a psychedelic forest journey that’s gonna be next-level. Two s
 tages. Seven Parvati artists. Non-stop good vibes. This isn’t just anothe
 r party—it’s a mind-expanding experience that’ll[..]\nhttps://dansepa
 raplyen.azurewebsites.net/events/equal-club-proudly-presents-parvati-record
 s-25-year-anniversary/
URL:https://danseparaplyen.azurewebsites.net/events/equal-club-proudly-presents-parvati-records-25-year-anniversary/
END:VEVENT
END:VCALENDAR