BEGIN:VCALENDAR
VERSION:2.0
PRODID:-//eventon.com NONSGML v1.0//EN
CALSCALE:GREGORIAN
METHOD:PUBLISH
BEGIN:VEVENT
UID:69e6abf53b170
DTSTAMP:20260420T224301Z
DTSTART:20240513T180000Z
DTEND:20240513T200000Z
LOCATION:Brobjergskolen Brobjergskolen
SUMMARY:Bachata Mondays at Brobjergskolen (Only Socials)
DESCRIPTION:Hello Bachateros\, Keep calm and dance bachata! Agenda:20:00 to
  22:00 &#8211; Socials Price:Only Socials: 40 DKKStudent price: 30 DKKMobil
 e Pay: 520696 (Bachata Aarhus)Or CashHope to see you all soon. CheersBachat
 a Aarhus https://www.facebook.com/events/1942747576157349/\nhttps://dansepa
 raplyen.azurewebsites.net/events/bachata-mondays-at-brobjergskolen-only-soc
 ials/
URL:https://danseparaplyen.azurewebsites.net/events/bachata-mondays-at-brobjergskolen-only-socials/
END:VEVENT
END:VCALENDAR