BEGIN:VCALENDAR
VERSION:2.0
PRODID:-//eventon.com NONSGML v1.0//EN
CALSCALE:GREGORIAN
METHOD:PUBLISH
BEGIN:VEVENT
UID:69e67bb620101
DTSTAMP:20260420T191710Z
DTSTART:20240512T154500Z
DTEND:20240512T203000Z
LOCATION:Stakladen Live Stakladen Live
SUMMARY:Zouk og Salsa Night
DESCRIPTION:Program (english version below): Studenterhus Aarhus og Salsacl
 ave glæder sig til at danse med jer – det bliver fantastisk! Bare trop o
 p ved indgangen. Man skal ikke tilmelde sig på forhånd 🙂 17.45-18.45: 
 ZOUK og LATINMIX: • Zouk for begyndere/improvers med Sofie Bøye• Zouk 
 for letøvede/øvede med Mathias Frandsen• Latinmix[..]\nhttps://dansepar
 aplyen.azurewebsites.net/events/zouk-og-salsa-night/
URL:https://danseparaplyen.azurewebsites.net/events/zouk-og-salsa-night/
END:VEVENT
END:VCALENDAR