BEGIN:VCALENDAR
VERSION:2.0
PRODID:-//eventon.com NONSGML v1.0//EN
CALSCALE:GREGORIAN
METHOD:PUBLISH
BEGIN:VEVENT
UID:69e52e0da1d9f
DTSTAMP:20260419T193333Z
DTSTART:20240507T170000Z
DTEND:20240507T200000Z
LOCATION:Folkestedet Folkestedet
SUMMARY:Zouklounge d. 7/5
DESCRIPTION:Program:19-20: Drop-in workshop med Frederik\,  open level (for
 udsætter kendskab til zouk på begynderniveau).20-22: Fri dans\,  Frederik
  er DJ. Sted: Folkestedet lokale 1.1 (det store lokale på første sal). Ri
 ng evt. på klokken ved vores seddel på yderdøren. Pris: Gratis. Men hvis
  du kommer ofte\,  bør du melde dig ind i[..]\nhttps://danseparaplyen.azur
 ewebsites.net/events/zouklounge-d-7-5/
URL:https://danseparaplyen.azurewebsites.net/events/zouklounge-d-7-5/
END:VEVENT
END:VCALENDAR