BEGIN:VCALENDAR
VERSION:2.0
PRODID:-//eventon.com NONSGML v1.0//EN
CALSCALE:GREGORIAN
METHOD:PUBLISH
BEGIN:VEVENT
UID:69e54b557bb91
DTSTAMP:20260419T213829Z
DTSTART:20240501T160000Z
DTEND:20240501T173000Z
LOCATION:Skovgaardsgade 3E\,  8000 Aarhus C
SUMMARY:RAVI VARMA WORKSHOP
DESCRIPTION:All the way from India\,  the talented RAVI VARMA comes to DK a
 nd will be teaching a Choreo Class on 01/05 from 6pm to 7.30. RAVI is known
  all over the world\,  both as a dancer\,  teacher and judge. This is an in
 tensive dance workshop\,  where we can guarantee lots[..]\nhttps://dansepar
 aplyen.azurewebsites.net/events/ravi-varma-workshop/
URL:https://danseparaplyen.azurewebsites.net/events/ravi-varma-workshop/
END:VEVENT
END:VCALENDAR