BEGIN:VCALENDAR
VERSION:2.0
PRODID:-//eventon.com NONSGML v1.0//EN
CALSCALE:GREGORIAN
METHOD:PUBLISH
BEGIN:VEVENT
UID:69e5c22d4dabf
DTSTAMP:20260420T060533Z
DTSTART:20240430T170000Z
DTEND:20240430T210000Z
LOCATION:Bar/One &amp; "Kontoret" Bar/One & "Kontoret"
SUMMARY:Eso Dance Tuesdays - Bachata & Kizomba - No workshop (longer social)
DESCRIPTION:We are back at it! π₯³ Stronger than ever with a BEAUTIFUL new
  venue for our socials πͺ© and others concepts yet to come up! π ππ
 ΌπΏ πΌππΏ π»π²ππ°πΌπΊπ²πΏπThis event is open 
 for everyone π€ whether you have danced for years\,  just beginning or ma
 ybe just curious. It&#8217;s a perfect[..]\nhttps://danseparaplyen.azureweb
 sites.net/events/eso-dance-tuesdays-bachata-kizomba-w-bachata-workshop/
URL:https://danseparaplyen.azurewebsites.net/events/eso-dance-tuesdays-bachata-kizomba-w-bachata-workshop/
END:VEVENT
END:VCALENDAR