BEGIN:VCALENDAR
VERSION:2.0
PRODID:-//eventon.com NONSGML v1.0//EN
CALSCALE:GREGORIAN
METHOD:PUBLISH
BEGIN:VEVENT
UID:69e663d76040d
DTSTAMP:20260420T173519Z
DTSTART:20240511T113000Z
DTEND:20240512T133000Z
LOCATION:Filstedvejens Skole Filstedvejens Skole
SUMMARY:West Coast Swing Intensive Bootcamps - Andreas & Claudia
DESCRIPTION:(In English below ) SÃ†T X ALLEREDE NU ðŸ‘‰ðŸ‘‰11 &#8211; 12 MA
 J 2024 Vi glÃ¦der os sÃ¥ meget til at afholde endnu et WCS event i Aalborgð
 Ÿ•ºðŸŽ¶ðŸ’ƒOg selvfÃ¸lgelig med fantastiske Guest-StarsðŸ¤©nemlig Andreas &
 #038; Claudia fra SverigeðŸ‡¸ðŸ‡ªðŸ‘Œ Andreas &#038; Claudia er meget erfar
 ne wcs dansere og rejser bla. rundt til mange[..]\nhttps://danseparaplyen.a
 zurewebsites.net/events/west-coast-swing-intensive-bootcamps-andreas-claudi
 a/
URL:https://danseparaplyen.azurewebsites.net/events/west-coast-swing-intensive-bootcamps-andreas-claudia/
END:VEVENT
END:VCALENDAR