BEGIN:VCALENDAR
VERSION:2.0
PRODID:-//eventon.com NONSGML v1.0//EN
CALSCALE:GREGORIAN
METHOD:PUBLISH
BEGIN:VEVENT
UID:69e60531b19e9
DTSTAMP:20260420T105129Z
DTSTART:20240510T190000Z
DTEND:20240511T000000Z
LOCATION:CasaV58 CasaV58
SUMMARY:Slingrer ned ad Vestergade vol. 6 + Pianobar v/Rasmus Mogensen
DESCRIPTION:Slingrer ned ad Vestergade + Pianobar Hep\,  så fester vi igen
 ! Entré i forsalg: 60\, - kr. inkl. garderobeEntré i døren: 75\, - kr. i
 nkl. garderobeFølg venligst link for forsalg:https://www.place2book.com/da
 /sw2/sales/rwd3fclmyu Endnu en fest for alle\,  der har lyst til at danse n
 atten lang til rare grooves\,  old school disco\,  funk and beyond.[..]\nht
 tps://danseparaplyen.azurewebsites.net/events/slingrer-ned-ad-vestergade-vo
 l-6-pianobar-v-rasmus-mogensen/
URL:https://danseparaplyen.azurewebsites.net/events/slingrer-ned-ad-vestergade-vol-6-pianobar-v-rasmus-mogensen/
END:VEVENT
END:VCALENDAR