BEGIN:VCALENDAR
VERSION:2.0
PRODID:-//eventon.com NONSGML v1.0//EN
CALSCALE:GREGORIAN
METHOD:PUBLISH
BEGIN:VEVENT
UID:69e57def0a18e
DTSTAMP:20260420T011423Z
DTSTART:20240430T180000Z
DTEND:20240430T190000Z
LOCATION:Teaterskolen Move'n Act Teaterskolen Move'n Act
SUMMARY:Fusion bachata - Open level class
DESCRIPTION:🌟 Open Class: Fusion bachata 🌟 Join us for open-level dan
 ce classes every Tuesday at Caribe Club in Aarhus!Meet our GUEST instructor
 s &#8211; try their styles and new moves every week! 😎 📍 Where: Moven
  Act\,  Grønnegade 93e\,  8000 Aarhus🗓️ Date: Tuesday\,  April 30th
  Time: 20:00-21.00💃 Level: Open level💰 Price:[..]\nhttps://dansepara
 plyen.azurewebsites.net/events/fusion-bachata-open-level-class/
URL:https://danseparaplyen.azurewebsites.net/events/fusion-bachata-open-level-class/
END:VEVENT
END:VCALENDAR