BEGIN:VCALENDAR
VERSION:2.0
PRODID:-//eventon.com NONSGML v1.0//EN
CALSCALE:GREGORIAN
METHOD:PUBLISH
BEGIN:VEVENT
UID:69e60b73a7cde
DTSTAMP:20260420T111811Z
DTSTART:20240428T154500Z
DTEND:20240428T203000Z
LOCATION:Stakladen Live Stakladen Live
SUMMARY:Salsa\,  Son\,  Bachata\,  WCS\,  Cha-cha-cha\,  danseskosalg PLUS vind forårsfest!
DESCRIPTION:Program (english version below): Studenterhus Aarhus og Salsacl
 ave glæder sig til at danse med jer – det bliver fantastisk! Bare trop o
 p ved indgangen. Man skal ikke tilmelde sig på forhånd 🙂 17.45-18.45: 
 WEST COAST SWING\,  SON og CHA-CHA-CHA: • West Coast Swing for begyndere/
 improvers med Jan og Jette Pedersen•[..]\nhttps://danseparaplyen.azureweb
 sites.net/events/salsa-son-bachata-wcs-cha-cha-cha-danseskosalg-plus-vind-f
 orarsfest/
URL:https://danseparaplyen.azurewebsites.net/events/salsa-son-bachata-wcs-cha-cha-cha-danseskosalg-plus-vind-forarsfest/
END:VEVENT
END:VCALENDAR