BEGIN:VCALENDAR
VERSION:2.0
PRODID:-//eventon.com NONSGML v1.0//EN
CALSCALE:GREGORIAN
METHOD:PUBLISH
BEGIN:VEVENT
UID:69e5d209e6a40
DTSTAMP:20260420T071313Z
DTSTART:20240510T170000Z
DTEND:20240510T200000Z
LOCATION:Fritidscenter Skovvang – Skovvangsvej 127\,  8200 Aarhus Fritidscenter Skovvang – Skovvangsvej 127\,  8200 Aarhus
SUMMARY:Swingin´ Friday
DESCRIPTION:Would you like to try Lindy Hop?Join us at Swingin&#8217; Frida
 y at Fritidscenter Skovvang. You will experience a cozy atmosphere\,  great
  live jazz music and swing dancing. 🕖 May the 10th\,  Friday19.00-19.30 
 Introduction Class to Lindy Hop 19.30-21.30 Live Swing Music &#038; Social 
 Dance22.00 The End BANDJens Christian Kwella -GuitarFinn[..]\nhttps://danse
 paraplyen.azurewebsites.net/events/swingin-friday/
URL:https://danseparaplyen.azurewebsites.net/events/swingin-friday/
END:VEVENT
END:VCALENDAR