BEGIN:VCALENDAR
VERSION:2.0
PRODID:-//eventon.com NONSGML v1.0//EN
CALSCALE:GREGORIAN
METHOD:PUBLISH
BEGIN:VEVENT
UID:69e4e69ccc63e
DTSTAMP:20260419T142844Z
DTSTART:20240505T130000Z
DTEND:20240505T163000Z
LOCATION:CasaV58 CasaV58
SUMMARY:Martín Alvarado feat. Patricio Moya + Milonga - Tj Lotte Thrane
DESCRIPTION:⬇️Español⬇️ One of Argentina’s finest tango vocalist
 s\,  Martín Alvarado\,  will perform in Denmark during his 55. internation
 al soloist tour. Experience an unforgettable afternoon of tango music and d
 ance when we present an exclusive Milonga with Argentine tango vocalist Mar
 tin Alvarado! Immerse yourself in the enchanting atmosphere of Argentine ta
 ngo and[..]\nhttps://danseparaplyen.azurewebsites.net/events/martin-alvarad
 o-feat-patricio-moya-milonga-dj-lotte-thrane/
URL:https://danseparaplyen.azurewebsites.net/events/martin-alvarado-feat-patricio-moya-milonga-dj-lotte-thrane/
END:VEVENT
END:VCALENDAR