BEGIN:VCALENDAR
VERSION:2.0
PRODID:-//eventon.com NONSGML v1.0//EN
CALSCALE:GREGORIAN
METHOD:PUBLISH
BEGIN:VEVENT
UID:69e79806a1fec
DTSTAMP:20260421T153014Z
DTSTART:20240423T180000Z
DTEND:20240423T190000Z
LOCATION:Teaterskolen Move'n Act Teaterskolen Move'n Act
SUMMARY:Reggaeton - Open level class
DESCRIPTION:🌟 Open Class: Reggaeton 🌟 Join us for open-level dance cl
 asses every Tuesday at Caribe Club in Aarhus!Meet our GUEST instructors &#8
 211; try their styles and new moves every week! 😎 📍 Where: Moven Act\
 ,  Grønnegade 93e\,  8000 Aarhus🗓️ Date: Tuesday\,  April 23rd⏰ Tim
 e: 20:00-21.00💃 Level: Open level💰 Price: 40kr🕺[..]\nhttps://danse
 paraplyen.azurewebsites.net/events/reggaeton-open-level-class/
URL:https://danseparaplyen.azurewebsites.net/events/reggaeton-open-level-class/
END:VEVENT
END:VCALENDAR