BEGIN:VCALENDAR
VERSION:2.0
PRODID:-//eventon.com NONSGML v1.0//EN
CALSCALE:GREGORIAN
METHOD:PUBLISH
BEGIN:VEVENT
UID:69e64f6473940
DTSTAMP:20260420T160804Z
DTSTART:20240420T090000Z
DTEND:20240428T122000Z
LOCATION:Kochs Skole Kochs Skole
SUMMARY:Boot Camps i Salsa og Kizomba: Fra begynder til letÃ¸vet pÃ¥ 2 dage
DESCRIPTION:Workshops i 2 populÃ¦re latinamerikanske pardanse!Tag af sted â
 €“ det bliver supersjovt og lÃ¦rerigt! UNDERVISERE:Sofie BÃ¸ye (salsa)Criss
  Kizz og Freja Steffens (kizomba) DATOER OG TILMELDING:SALSA BOOT CAMP (FRA
  BEGYNDER TIL LETÃ˜VET PÃ… TO DAGE):LÃ¸rdag den 20. april\,  kl. 11.00-14.2
 0 (step 1-3)SÃ¸ndag den 21. april\,  kl. 11.00-14.20 (step 4-6)TILMELDING o
 g mere[..]\nhttps://danseparaplyen.azurewebsites.net/events/boot-camps-i-sa
 lsa-og-kizomba-fra-begynder-til-letovet-pa-2-dage/
URL:https://danseparaplyen.azurewebsites.net/events/boot-camps-i-salsa-og-kizomba-fra-begynder-til-letovet-pa-2-dage/
END:VEVENT
END:VCALENDAR