BEGIN:VCALENDAR
VERSION:2.0
PRODID:-//eventon.com NONSGML v1.0//EN
CALSCALE:GREGORIAN
METHOD:PUBLISH
BEGIN:VEVENT
UID:69ec22b28bc60
DTSTAMP:20260425T021058Z
DTSTART:20240421T154500Z
DTEND:20240421T203000Z
LOCATION:Studenterhus Aarhus Studenterhus Aarhus
SUMMARY:Zouk og Salsa Night med Zouk Lounge og Salsa Suelta!
DESCRIPTION:Program (english version below): Studenterhus Aarhus og Salsacl
 ave glæder sig til at danse med jer – det bliver fantastisk! Bare trop o
 p ved indgangen. Man skal ikke tilmelde sig på forhånd 🙂 17.45-18.45: 
 ZOUK og SALSA SUELTA: • Salsa Suelta for begyndere/improvers med Lene Bru
 un• Zouk for letøvede med Torkild[..]\nhttps://danseparaplyen.azurewebsi
 tes.net/events/zouk-og-salsa-night-med-zouk-lounge-og-salsa-suelta/
URL:https://danseparaplyen.azurewebsites.net/events/zouk-og-salsa-night-med-zouk-lounge-og-salsa-suelta/
END:VEVENT
END:VCALENDAR