BEGIN:VCALENDAR
VERSION:2.0
PRODID:-//eventon.com NONSGML v1.0//EN
CALSCALE:GREGORIAN
METHOD:PUBLISH
BEGIN:VEVENT
UID:69e7aaf6b9271
DTSTAMP:20260421T165102Z
DTSTART:20240423T170000Z
DTEND:20240423T200000Z
LOCATION:Folkestedet Folkestedet
SUMMARY:Zouklounge d. 23/4
DESCRIPTION:Program:19-20: Drop-in workshop med Morten. Niveau: begynder2 (
 sÃ¥ det forventes at man mindst har taget et kort begynderforlÃ¸b (3 gange)
 \,  men undervejs kommer der ogsÃ¥ lidt inspiration og Ã¸velser for de mere
  Ã¸vede).20-22: Fri dans. Sted: Folkestedet lokale 1.1 (det store lokale pÃ
 ¥ fÃ¸rste sal). Ring evt. pÃ¥ klokken ved[..]\nhttps://danseparaplyen.azure
 websites.net/events/zouklounge-d-23-4/
URL:https://danseparaplyen.azurewebsites.net/events/zouklounge-d-23-4/
END:VEVENT
END:VCALENDAR