BEGIN:VCALENDAR
VERSION:2.0
PRODID:-//eventon.com NONSGML v1.0//EN
CALSCALE:GREGORIAN
METHOD:PUBLISH
BEGIN:VEVENT
UID:69e5ac344e9f9
DTSTAMP:20260420T043148Z
DTSTART:20240416T170000Z
DTEND:20240416T210000Z
LOCATION:One Event Designers
SUMMARY:Eso Dance Tuesdays - Bachata & Kizomba - Ana Ledezma w/Bachata
DESCRIPTION:We are back at it! π₯³ Stronger than ever with a BEAUTIFUL new
  venue for our socials πͺ© and others concepts yet to come up! π ππ
 ΌπΏ πΌππΏ π»π²ππ°πΌπΊπ²πΏπThis event is open 
 for everyone π€ whether you have danced for years\,  just beginning or ma
 ybe just curious. It&#8217;s a perfect[..]\nhttps://danseparaplyen.azureweb
 sites.net/events/eso-dance-tuesdays-bachata-kizomba-bachata-workshop-with-a
 na-ledezma/
URL:https://danseparaplyen.azurewebsites.net/events/eso-dance-tuesdays-bachata-kizomba-bachata-workshop-with-ana-ledezma/
END:VEVENT
END:VCALENDAR