BEGIN:VCALENDAR
VERSION:2.0
PRODID:-//eventon.com NONSGML v1.0//EN
CALSCALE:GREGORIAN
METHOD:PUBLISH
BEGIN:VEVENT
UID:69e506c21573a
DTSTAMP:20260419T164554Z
DTSTART:20240503T120000Z
DTEND:20240503T173000Z
LOCATION:Damagervej 10\,  8260 Viby J\,  Danmark
SUMMARY:WHITE PARTY! - KIZOMBA intro og PARTY med Dee & Louise!
DESCRIPTION:Det er med kæmpe stor glæde\,  at vi inviterer jer til vores 
 månedlige festlige TROPICA KIZOMBA NIGHT i 2024 fredag d. 3. Maj 2024! Den
 ne gang med White Party! Workshop\,  Intro og Kizomba dansefest OBS ! 📸 
 ➡️ Der vil til dette event blive taget billeder og video i løbet[..]\n
 https://danseparaplyen.azurewebsites.net/events/white-party-kizomba-intro-o
 g-party-med-dee-louise/
URL:https://danseparaplyen.azurewebsites.net/events/white-party-kizomba-intro-og-party-med-dee-louise/
END:VEVENT
END:VCALENDAR