BEGIN:VCALENDAR
VERSION:2.0
PRODID:-//eventon.com NONSGML v1.0//EN
CALSCALE:GREGORIAN
METHOD:PUBLISH
BEGIN:VEVENT
UID:69e5727fcf05b
DTSTAMP:20260420T002535Z
DTSTART:20240509T180000Z
DTEND:20240509T220000Z
LOCATION:Fiskergyde 4\,  8000 Aarhus\,  Denmark Fiskergyde 4\,  8000 Aarhus\,  Denmark
SUMMARY:Drop-in salsa ved Åen - hver torsdag!
DESCRIPTION:GRATIS ENTRÉ!Ugentlig Salsa/Latin party med Cubanisima på Mad
 am Cuba. Hver torsdag! Intro til salsa\,  DJs\,  cocktails og dans!FREE ENT
 RY!Every thursday salsa party at Madam Cuba. Salsa intro\,  Latin Music DJs
 \,  cocktails and lots of dancing!Cubanisima arrangerer i samarbejde med Ma
 dam Cuba en ægte dansefest hver torsdag.Vi starter med undervisning hvor[.
 .]\nhttps://danseparaplyen.azurewebsites.net/events/drop-in-salsa-ved-aen-h
 ver-torsdag-15/
URL:https://danseparaplyen.azurewebsites.net/events/drop-in-salsa-ved-aen-hver-torsdag-15/
END:VEVENT
END:VCALENDAR