BEGIN:VCALENDAR
VERSION:2.0
PRODID:-//eventon.com NONSGML v1.0//EN
CALSCALE:GREGORIAN
METHOD:PUBLISH
BEGIN:VEVENT
UID:69e622c866554
DTSTAMP:20260420T125744Z
DTSTART:20240428T090000Z
DTEND:20240428T120000Z
LOCATION:Brobjergskolen Brobjergskolen
SUMMARY:Bachata BOOTCAMP - LA LUNA Typical moves
DESCRIPTION:ENGLISH BELOW ⬇️ Bachata Open level Bootcamp (Minimum 6 må
 neder af bachata Undervisning &#038; god forståelse for musikken) OBS: &#8
 220;MAN SKAL TILMELDES MED EN PARTNER!!!&#8221; I denne workshop vi vil fok
 usere på fedt bachata-bevægelser og figurer\,  som vi normalt bruger i vo
 res LA LUNA LATINA-rutine. Vi vil fordybe os i[..]\nhttps://danseparaplyen.
 azurewebsites.net/events/bachata-bootcamp-la-luna-typical-moves/
URL:https://danseparaplyen.azurewebsites.net/events/bachata-bootcamp-la-luna-typical-moves/
END:VEVENT
END:VCALENDAR