BEGIN:VCALENDAR
VERSION:2.0
PRODID:-//eventon.com NONSGML v1.0//EN
CALSCALE:GREGORIAN
METHOD:PUBLISH
BEGIN:VEVENT
UID:69e77f0288fca
DTSTAMP:20260421T134330Z
DTSTART:20240424T170000Z
DTEND:20240424T200000Z
LOCATION:Institut for (X)\,  Godsbanen\,  Aarhus Institut for (X)\,  Godsbanen\,  Aarhus
SUMMARY:Blues dance at Institut for (X)
DESCRIPTION:&#8212; Come and get in the mood for blues &#8212; There will b
 e a short introduction for the dance\,  so everyone can join. No matter the
  dance experience. Then the floor is open for social dance. When blues deve
 loped people often danced in small juke-joint. Small venues or private home
 s[..]\nhttps://danseparaplyen.azurewebsites.net/events/blues-dance-at-insti
 tut-for-x-3/
URL:https://danseparaplyen.azurewebsites.net/events/blues-dance-at-institut-for-x-3/
END:VEVENT
END:VCALENDAR