BEGIN:VCALENDAR
VERSION:2.0
PRODID:-//eventon.com NONSGML v1.0//EN
CALSCALE:GREGORIAN
METHOD:PUBLISH
BEGIN:VEVENT
UID:69e5c76064994
DTSTAMP:20260420T062744Z
DTSTART:20240417T143000Z
DTEND:20240417T153000Z
LOCATION:Ankersgade 21\,  8000 Ankersgade 21\,  8000 Aarhus\,  Denmark
SUMMARY:Infomøde: Vis jeres bevægelse frem
DESCRIPTION:Dyrker din gruppe\,  forening el. virksomhed en eller anden for
 m for bevægelse på Langenæs/Frederiksbjerg\,  Aarhus C eller i Viby J\, 
  så er dette noget for jer\,  især\,  hvis I gerne vil: &#8211; Vise jere
 s bevægelse frem og lade festivalgæsterne prøve jeres bevægelse af unde
 r Langenæs Kulturfestival torsdag 12.9.24 om eftermiddagen.[..]\nhttps://d
 anseparaplyen.azurewebsites.net/events/infomode-vis-jeres-bevaegelse-frem/
URL:https://danseparaplyen.azurewebsites.net/events/infomode-vis-jeres-bevaegelse-frem/
END:VEVENT
END:VCALENDAR