BEGIN:VCALENDAR
VERSION:2.0
PRODID:-//eventon.com NONSGML v1.0//EN
CALSCALE:GREGORIAN
METHOD:PUBLISH
BEGIN:VEVENT
UID:69e5f9d147abd
DTSTAMP:20260420T100257Z
DTSTART:20240416T160500Z
DTEND:20240416T165500Z
LOCATION:Online Event Online Event
SUMMARY:// TWERK Dance Drop in class // 🔥
DESCRIPTION:📢📢 NYHED 📢📢 🍑🍑DROP IN CLASS med AK🍑🍑 
  Hvad undervises der i tirsdag d. 16. april? 🙋‍♀️ Til denne drop
 -in time vil vi først arbejde med nogle forskellige twerking-teknikker og 
 moves\,  som vi senere vil sætte sammen til en lille koreografi. Alle er v
 elkomne &#8211; både hvis du vil[..]\nhttps://danseparaplyen.azurewebsites
 .net/events/twerk-dance-drop-in-class-%f0%9f%94%a5/
URL:https://danseparaplyen.azurewebsites.net/events/twerk-dance-drop-in-class-%f0%9f%94%a5/
END:VEVENT
END:VCALENDAR