BEGIN:VCALENDAR
VERSION:2.0
PRODID:-//eventon.com NONSGML v1.0//EN
CALSCALE:GREGORIAN
METHOD:PUBLISH
BEGIN:VEVENT
UID:69e70f83e7791
DTSTAMP:20260421T054747Z
DTSTART:20240426T150000Z
DTEND:20240426T180000Z
LOCATION:Folkestedet Folkestedet
SUMMARY:Generalforsamling og Peña aften
DESCRIPTION:Flamenco Peña aften og Generalforsamling ÓBS: Mindre ændring
  i programmet !!Kom med til La Caña&#8217;s generalforsamling. Hør mere o
 m foreningens arbejde\,  bidrag til hvad der skal ske det næste år. MEN F
 ØRST danser vi lidt Sevillanas\,  laver noget Klap/tramp træning og danse
 r lidt FlamencoFit inden vi nyder der et glas[..]\nhttps://danseparaplyen.a
 zurewebsites.net/events/generalforsamling-og-pena-aften/
URL:https://danseparaplyen.azurewebsites.net/events/generalforsamling-og-pena-aften/
END:VEVENT
END:VCALENDAR