BEGIN:VCALENDAR
VERSION:2.0
PRODID:-//eventon.com NONSGML v1.0//EN
CALSCALE:GREGORIAN
METHOD:PUBLISH
BEGIN:VEVENT
UID:69e6c91d4b707
DTSTAMP:20260421T004725Z
DTSTART:20240426T200000Z
DTEND:20240427T010000Z
LOCATION:CasaV58 CasaV58
SUMMARY:The Vibz (amapiano-dancehall-afroHouse/afrobeats)
DESCRIPTION:CasaV58\,  Hygge Bass Crew &#038; DJ Xzyl invite you to the fir
 st ever The Vibz event\,  a night we look forward to host over and over for
  you\,  your friends\,  and everyone you have in mind when you think about 
 a fantastic global night out in Aarhus. A night out[..]\nhttps://danseparap
 lyen.azurewebsites.net/events/global-vibz-night/
URL:https://danseparaplyen.azurewebsites.net/events/global-vibz-night/
END:VEVENT
END:VCALENDAR