BEGIN:VCALENDAR
VERSION:2.0
PRODID:-//eventon.com NONSGML v1.0//EN
CALSCALE:GREGORIAN
METHOD:PUBLISH
BEGIN:VEVENT
UID:69e5bd24c1136
DTSTAMP:20260420T054404Z
DTSTART:20240510T170000Z
DTEND:20240510T200000Z
LOCATION:Brobjergskolen Brobjergskolen
SUMMARY:West Coast Swing - Social Friday 🎶
DESCRIPTION:Velkommen til West Coast Swing på Brobjergskolen 💃❤️‍
 🔥🙌 Vi holder et lille kursus\,  hvorefter der er fri dans for alle p
  tværs af niveauer. Tidsplan:Kl 19-20: Gustav og Laura underviser i forsk
 ellige anchor step-variationer. For at kunne deltage skal du være fortroli
 g med 6 count basis trin (left side pass\, [..]\nhttps://danseparaplyen.azu
 rewebsites.net/events/social-friday-%f0%9f%8e%b6/
URL:https://danseparaplyen.azurewebsites.net/events/social-friday-%f0%9f%8e%b6/
END:VEVENT
END:VCALENDAR