BEGIN:VCALENDAR
VERSION:2.0
PRODID:-//eventon.com NONSGML v1.0//EN
CALSCALE:GREGORIAN
METHOD:PUBLISH
BEGIN:VEVENT
UID:69e636f3b1ac9
DTSTAMP:20260420T142347Z
DTSTART:20240428T150000Z
DTEND:20240428T180000Z
LOCATION:Folkestedet Folkestedet
SUMMARY:Open Practice
DESCRIPTION:We will meet on Sunday evening for some practice sessions.In Fo
 lkeatedet\,  in the big room (1.1). DISCLAIMER: THIS IS NOT A CLASS\,  and 
 NO INTRODUCTION TO LINDY HOP WILL BE GIVEN. Please\,  sign up for weekly cl
 asses if you want to learn to dance. We organise monthly events with taster
 [..]\nhttps://danseparaplyen.azurewebsites.net/events/open-practice-10/
URL:https://danseparaplyen.azurewebsites.net/events/open-practice-10/
END:VEVENT
END:VCALENDAR