BEGIN:VCALENDAR
VERSION:2.0
PRODID:-//eventon.com NONSGML v1.0//EN
CALSCALE:GREGORIAN
METHOD:PUBLISH
BEGIN:VEVENT
UID:69eb3d3cb64c4
DTSTAMP:20260424T095156Z
DTSTART:20240419T190000Z
DTEND:20240420T000000Z
LOCATION:CasaV58 CasaV58
SUMMARY:Slingrer ned ad Vestergade vol. 5 + Pianobar v/ Steen Frederiksen
DESCRIPTION:Slingrer ned ad Vestergade + Pianobar Sæt et stort\,  fedt kry
 ds i kalenderen❌ Entré i forsalg: 60\, - kr. inkl. garderobeEntré i dø
 ren: 75\, - kr. inkl. garderobeFølg venligst link for forsalg:https://www.
 place2book.com/da/sw2/sales/dgtou814au Endnu en fest for alle\,  der har ly
 st til at danse natten lang til rare grooves\,  old school disco\,  funk[..
 ]\nhttps://danseparaplyen.azurewebsites.net/events/slingrer-ned-ad-vesterga
 de-vol-5-pianobar-v-steen-frederiksen/
URL:https://danseparaplyen.azurewebsites.net/events/slingrer-ned-ad-vestergade-vol-5-pianobar-v-steen-frederiksen/
END:VEVENT
END:VCALENDAR