BEGIN:VCALENDAR
VERSION:2.0
PRODID:-//eventon.com NONSGML v1.0//EN
CALSCALE:GREGORIAN
METHOD:PUBLISH
BEGIN:VEVENT
UID:69e7402114f04
DTSTAMP:20260421T091513Z
DTSTART:20240425T020000Z
DTEND:20240425T043000Z
LOCATION:Studenterhus Aarhus Studenterhus Aarhus
SUMMARY:Nordisk Dans Aarhus x 1:En Duo - Polska tema
DESCRIPTION:Onsdag d. 24. april mødes vi til endnu en danseaften\,  og aft
 enens tema er POLSKA 💃🕺 Denne aften er special\,  da selveste 1: En D
 uo kommer og spiller! Vi glæder os til igen at byde på en festlig aften m
 ed levende musik\,  kolde øl/sodavand og selvfølgelig en masse dans! Afte
 nen[..]\nhttps://danseparaplyen.azurewebsites.net/events/nordisk-dans-aarhu
 s-x-1en-duo-polska-tema/
URL:https://danseparaplyen.azurewebsites.net/events/nordisk-dans-aarhus-x-1en-duo-polska-tema/
END:VEVENT
END:VCALENDAR