BEGIN:VCALENDAR
VERSION:2.0
PRODID:-//eventon.com NONSGML v1.0//EN
CALSCALE:GREGORIAN
METHOD:PUBLISH
BEGIN:VEVENT
UID:69e5a33036f7e
DTSTAMP:20260420T035320Z
DTSTART:20240510T170000Z
DTEND:20240510T210000Z
LOCATION:Folkestedet Folkestedet
SUMMARY:FredagsPractica og TangoLab
DESCRIPTION:FredagsPractika med TangoLabKl. 19-20 Tangolab om tangovals og 
 musikalitet m. BirtheNiveau: alleKom og mærk de muntre valserytmer på ege
 n krop. Birthe Havmøller fortæller om forskellige typer af argentinske va
 lse\,  gennemgår kort den elementære teori om danserytmerne i tangovals s
 amt udpege nogle andre karakteristiske musikalske elementer i de argentinsk
 e valse. Tangovals[..]\nhttps://danseparaplyen.azurewebsites.net/events/fre
 dagspractica-13/
URL:https://danseparaplyen.azurewebsites.net/events/fredagspractica-13/
END:VEVENT
END:VCALENDAR