BEGIN:VCALENDAR
VERSION:2.0
PRODID:-//eventon.com NONSGML v1.0//EN
CALSCALE:GREGORIAN
METHOD:PUBLISH
BEGIN:VEVENT
UID:69e4d69f454a0
DTSTAMP:20260419T132031Z
DTSTART:20240503T180000Z
DTEND:20240503T210000Z
LOCATION:Folkestedet Folkestedet
SUMMARY:FredagsPractica - ER AFLYST
DESCRIPTION:Fredagspractika &#8211; ER AFLYST. FOLKESTEDET ER OPTAGET. http
 s://www.facebook.com/events/1904267883337493/\nhttps://danseparaplyen.azure
 websites.net/events/fredagspractica-12/
URL:https://danseparaplyen.azurewebsites.net/events/fredagspractica-12/
END:VEVENT
END:VCALENDAR