BEGIN:VCALENDAR
VERSION:2.0
PRODID:-//eventon.com NONSGML v1.0//EN
CALSCALE:GREGORIAN
METHOD:PUBLISH
BEGIN:VEVENT
UID:69e6dfa141d20
DTSTAMP:20260421T022329Z
DTSTART:20240426T180000Z
DTEND:20240426T210000Z
LOCATION:Folkestedet Folkestedet
SUMMARY:FredagsPractica
DESCRIPTION:Fredagspractica v/DJ Søren Pape Prisen er 30 kr. for medlemmer
  og 50 kr for gæster. I prisen er inkluderet lidt vin &#038; en snack. Du 
 kan også gå på hjemmesiden og få VIP practica medlemsskab &#8211; så e
 r alle årets practica glæder betalt:) https://tangoaarhus.dk/Ved ankomst 
 ring på tango klokken på[..]\nhttps://danseparaplyen.azurewebsites.net/ev
 ents/fredagspractica-11/
URL:https://danseparaplyen.azurewebsites.net/events/fredagspractica-11/
END:VEVENT
END:VCALENDAR