BEGIN:VCALENDAR
VERSION:2.0
PRODID:-//eventon.com NONSGML v1.0//EN
CALSCALE:GREGORIAN
METHOD:PUBLISH
BEGIN:VEVENT
UID:69eb7eaec8b58
DTSTAMP:20260424T143110Z
DTSTART:20240420T170000Z
DTEND:20240420T200000Z
LOCATION:Fritidscenter Skovvang – Skovvangsvej 127\,  8200 Aarhus Fritidscenter Skovvang – Skovvangsvej 127\,  8200 Aarhus
SUMMARY:Swingin´ Saturday
DESCRIPTION:Would you like to try Lindy Hop?Join us at Swingin&#8217; Satur
 day at Fritidscenter Skovvang. You will experience a cozy atmosphere\,  gre
 at live jazz music and swing dancing. 🕖 April the 20th\,  Saturday19.00-
 19.30 Introduction Class to Lindy Hop 19.30-21.30 Live Swing Music &#038; S
 ocial Dance22.00 The End BANDEline Engholm &#8211; VocalsDan[..]\nhttps://d
 anseparaplyen.azurewebsites.net/events/swingin-saturday/
URL:https://danseparaplyen.azurewebsites.net/events/swingin-saturday/
END:VEVENT
END:VCALENDAR