BEGIN:VCALENDAR
VERSION:2.0
PRODID:-//eventon.com NONSGML v1.0//EN
CALSCALE:GREGORIAN
METHOD:PUBLISH
BEGIN:VEVENT
UID:69eb2cc987e73
DTSTAMP:20260424T084145Z
DTSTART:20240419T170000Z
DTEND:20240419T210000Z
LOCATION:Folkestedet Folkestedet
SUMMARY:FredagsPractica med "Prof til Medlem" v/Valerie og Jesper
DESCRIPTION:Fredagspractika med &#8220;Prof til Medlem&#8221; v/ Valerie og
  Jesper &#8220;Prof til Medlem&#8221; kl 19-20Leg i Milonga -for letøvede/
 øvede af Jesper og Valerie. Deltagerne kan komme uden partner og sættes s
 ammen parvis på dagen\,  så der er en fører/følger. Ingen tilmelding\, 
  men angiv gerne &#8220;deltager&#8221; i facebook-opslaget. Værtskab og D
 J står[..]\nhttps://danseparaplyen.azurewebsites.net/events/fredagspractic
 a-med-prof-til-medlem-v-valerie-og-jesper/
URL:https://danseparaplyen.azurewebsites.net/events/fredagspractica-med-prof-til-medlem-v-valerie-og-jesper/
END:VEVENT
END:VCALENDAR