BEGIN:VCALENDAR
VERSION:2.0
PRODID:-//eventon.com NONSGML v1.0//EN
CALSCALE:GREGORIAN
METHOD:PUBLISH
BEGIN:VEVENT
UID:69e52a05dcb27
DTSTAMP:20260419T191621Z
DTSTART:20240316T181500Z
DTEND:20240316T230000Z
LOCATION:Folkestedet Carl Blochs Gade 28 \,  Aarhus C Folkestedet Carl Blochs Gade 28 \,  Aarhus C
SUMMARY:Latin & Kizomba Party + 2x Workshops > Bachata &  Salsa <
DESCRIPTION:๐ SATURDAYS LATIN &#038; KIZOMBA PARTY ๐๐ PRICE 30kr /
  CASH or MOBILE PAY๐ ๐ Provides access to both dance floors๐ฅNB! &g
 t;&gt; Bringing your own drinks is NOT ALOWED ๐น Affordable prices in the
  bar &gt;Vine /Beers /Soda/Water20kr/20kr/20kr/10kr PROGRAM FOR THE NIGHT โ
 โ 19.15 &#8211; DOORS OPENโ 19.30 &#8211; 20.15[..]\nhttps://dansepar
 aplyen.azurewebsites.net/events/latin-kizomba-party-2x-workshops-bachata-sa
 lsa-3/
URL:https://danseparaplyen.azurewebsites.net/events/latin-kizomba-party-2x-workshops-bachata-salsa-3/
END:VEVENT
END:VCALENDAR