BEGIN:VCALENDAR
VERSION:2.0
PRODID:-//eventon.com NONSGML v1.0//EN
CALSCALE:GREGORIAN
METHOD:PUBLISH
BEGIN:VEVENT
UID:69e6b17d132a0
DTSTAMP:20260420T230637Z
DTSTART:20240427T080000Z
DTEND:20240427T100000Z
LOCATION:Favnaarhus
SUMMARY:SOUL TRIBE
DESCRIPTION:Soul TribeKvindecirkel &#8211; Dans og Fordybelse. Et Cirkel fĂ
 ¦llesskab for kvinder\,  med alt det bedste: SĂ¸sterskab. Sharing. Cirkel. 
 Cacao. Healing. Dans. FrisĂ¦ttelse. Manifestation. Meditation. BevĂ¦gelse. 
 Hver gang handler om at give plads til hele dig\,  om at frisĂ¦tte og manif
 estere. At give plads til dig med alt du er\,  og[..]\nhttps://danseparaply
 en.azurewebsites.net/events/soul-tribe-3/
URL:https://danseparaplyen.azurewebsites.net/events/soul-tribe-3/
END:VEVENT
END:VCALENDAR