BEGIN:VCALENDAR
VERSION:2.0
PRODID:-//eventon.com NONSGML v1.0//EN
CALSCALE:GREGORIAN
METHOD:PUBLISH
BEGIN:VEVENT
UID:69e5114e1a375
DTSTAMP:20260419T173054Z
DTSTART:20240316T173000Z
DTEND:20240316T220000Z
LOCATION:Antroposofisk Kulturhus Antroposofisk Kulturhus
SUMMARY:18:30-20: Workshop "NÆRVÆRSDANS" med Susanne Zoe ···· 20-23: FRI DANS med DJ Ayuna og DJ Itsi Bitsi
DESCRIPTION:= = = = = = = = = = = = = = = = = =Workshop &#8220;NÆRVÆRSDAN
 S&#8221; med Susanne Zoe &#8211;efterfulgt af Dans med DJ Ayuna og DJ ITSI 
 BITSI (Iben)Læs beskrivelser nedenfor = = = = = = = = = = = = = =BUS til[.
 .]\nhttps://danseparaplyen.azurewebsites.net/events/1830-20-workshop-naerva
 ersdans-med-susanne-zoe-%c2%b7%c2%b7%c2%b7%c2%b7-20-23-fri-dans-med-dj-ayun
 a-og-dj-itsi-bitsi/
URL:https://danseparaplyen.azurewebsites.net/events/1830-20-workshop-naervaersdans-med-susanne-zoe-%c2%b7%c2%b7%c2%b7%c2%b7-20-23-fri-dans-med-dj-ayuna-og-dj-itsi-bitsi/
END:VEVENT
END:VCALENDAR